BEGIN:VCALENDAR
VERSION:2.0
PRODID:-//MedienChamaeleon - ECPv6.15.20//NONSGML v1.0//EN
CALSCALE:GREGORIAN
METHOD:PUBLISH
X-WR-CALNAME:MedienChamaeleon
X-ORIGINAL-URL:https://medienchamaeleon.de
X-WR-CALDESC:Veranstaltungen für MedienChamaeleon
REFRESH-INTERVAL;VALUE=DURATION:PT1H
X-Robots-Tag:noindex
X-PUBLISHED-TTL:PT1H
BEGIN:VTIMEZONE
TZID:Europe/Paris
BEGIN:DAYLIGHT
TZOFFSETFROM:+0100
TZOFFSETTO:+0200
TZNAME:CEST
DTSTART:20250330T010000
END:DAYLIGHT
BEGIN:STANDARD
TZOFFSETFROM:+0200
TZOFFSETTO:+0100
TZNAME:CET
DTSTART:20251026T010000
END:STANDARD
BEGIN:DAYLIGHT
TZOFFSETFROM:+0100
TZOFFSETTO:+0200
TZNAME:CEST
DTSTART:20260329T010000
END:DAYLIGHT
BEGIN:STANDARD
TZOFFSETFROM:+0200
TZOFFSETTO:+0100
TZNAME:CET
DTSTART:20261025T010000
END:STANDARD
BEGIN:DAYLIGHT
TZOFFSETFROM:+0100
TZOFFSETTO:+0200
TZNAME:CEST
DTSTART:20270328T010000
END:DAYLIGHT
BEGIN:STANDARD
TZOFFSETFROM:+0200
TZOFFSETTO:+0100
TZNAME:CET
DTSTART:20271031T010000
END:STANDARD
END:VTIMEZONE
BEGIN:VEVENT
DTSTART;TZID=Europe/Paris:20260420T180000
DTEND;TZID=Europe/Paris:20260420T180000
DTSTAMP:20260424T100052
CREATED:20260116T111846Z
LAST-MODIFIED:20260313T114951Z
UID:10000794-1776708000-1776708000@medienchamaeleon.de
SUMMARY:Erstes Handy\, große Diskussion? Medien im Familienalltag.
DESCRIPTION:Mit dem Wechsel in die weiterführende Schule erhalten viele Kinder ihr erstes eigenes Smartphone.\nDamit beginnt für viele Familien eine neue Herausforderung.\nDer Infoelternabend bietet Orientierung und Unterstützung für Eltern\, den Medienkonsum Ihrer Kinder bewusst zu begleiten. \nWann ist es Zeit für das erste eigene Smartphone?\nWelche Apps bieten einen Mehrwert?\nWelche Einstellungen gilt es zu beachten? \nUm Eltern mehr Sicherheit im Bereich Medienerziehung zu verschaffen\, besprechen wir\, wie sie den Medienumgang aktiv begleiten können. Wie möchten Familien dabei unterstützen\, digitale Medien bewusst und sicher in den Alltag zu integrieren. \nWir bitten um eine Voranmeldung in der Schule.
URL:https://medienchamaeleon.de/event/erstes-handy-grosse-diskussion-medien-im-familienalltag-2
LOCATION:Goethegrundschule Burgstädt\, Göppersdorfer Str. 68\, Burgstädt\, 09217
CATEGORIES:Informationsveranstaltung
ATTACH;FMTTYPE=image/png:https://medienchamaeleon.de/wp-content/uploads/2023/06/Mobile-bro-orange.png
ORGANIZER;CN="MedienCham%C3%A4leon | YC Medien und Bildung gGmbH":MAILTO:kontakt@medienchamaeleon.de
END:VEVENT
BEGIN:VEVENT
DTSTART;TZID=Europe/Paris:20260423T140000
DTEND;TZID=Europe/Paris:20260423T170000
DTSTAMP:20260424T100052
CREATED:20260116T112228Z
LAST-MODIFIED:20260313T114902Z
UID:10000795-1776952800-1776963600@medienchamaeleon.de
SUMMARY:Mitreden können: Begriffe und Trends der digitalen Welt
DESCRIPTION:Die digitale Welt verändert sich ständig – und wir sind mittendrin.\nIn diesem Workshop möchten wir Sie einladen\, die moderne Medien in Ruhe kennenzulernen und besser zu verstehen.\nGemeinsam schauen wir uns an\, was hinter Begriffen wie „Filterblasen“ oder „Algorithmen“ steckt – und was das ganz praktisch für Sie bedeutet. Wir sprechen über aktuelle Internetseiten und Plattformen\, zeigen\, wie man Informationen überprüfen kann\, und erklären\, wie Sie Nachrichten besser einordnen und bewerten können. \nWie suche und finde ich Informationen? \nWie identifiziere ich vertrauenswürdige Nachrichten und Inhalte?\nWas sind Soziale Netzwerke und wie funktionieren sie?  \nDieser Workshop richtet sich an alle\, die sich mit den neusten Entwicklungen im sich ständig wandelnden Umfeld der digitalen Medien vertraut machen und ihre Kompetenzen mit diesen umzugehen\, stärken möchten. \nWir bitten um eine Voranmeldung im Seniorenrat Rochlitz per E-Mail an seniorenratRL1@web.de
URL:https://medienchamaeleon.de/event/mitreden-koennen-begriffe-und-trends-der-digitalen-welt-2
LOCATION:Seniorenrat Rochlitz\, Markt 13\, Rochlitz\, 09306
CATEGORIES:Workshop
ATTACH;FMTTYPE=image/png:https://medienchamaeleon.de/wp-content/uploads/2025/06/Neues-aus-der-Welt-der-digitalen-Medien.png
ORGANIZER;CN="MedienCham%C3%A4leon | YC Medien und Bildung gGmbH":MAILTO:kontakt@medienchamaeleon.de
END:VEVENT
END:VCALENDAR