BEGIN:VCALENDAR
VERSION:2.0
PRODID:-//MedienChamaeleon - ECPv6.15.20//NONSGML v1.0//EN
CALSCALE:GREGORIAN
METHOD:PUBLISH
X-WR-CALNAME:MedienChamaeleon
X-ORIGINAL-URL:https://medienchamaeleon.de
X-WR-CALDESC:Veranstaltungen für MedienChamaeleon
REFRESH-INTERVAL;VALUE=DURATION:PT1H
X-Robots-Tag:noindex
X-PUBLISHED-TTL:PT1H
BEGIN:VTIMEZONE
TZID:Europe/Paris
BEGIN:DAYLIGHT
TZOFFSETFROM:+0100
TZOFFSETTO:+0200
TZNAME:CEST
DTSTART:20250330T010000
END:DAYLIGHT
BEGIN:STANDARD
TZOFFSETFROM:+0200
TZOFFSETTO:+0100
TZNAME:CET
DTSTART:20251026T010000
END:STANDARD
BEGIN:DAYLIGHT
TZOFFSETFROM:+0100
TZOFFSETTO:+0200
TZNAME:CEST
DTSTART:20260329T010000
END:DAYLIGHT
BEGIN:STANDARD
TZOFFSETFROM:+0200
TZOFFSETTO:+0100
TZNAME:CET
DTSTART:20261025T010000
END:STANDARD
BEGIN:DAYLIGHT
TZOFFSETFROM:+0100
TZOFFSETTO:+0200
TZNAME:CEST
DTSTART:20270328T010000
END:DAYLIGHT
BEGIN:STANDARD
TZOFFSETFROM:+0200
TZOFFSETTO:+0100
TZNAME:CET
DTSTART:20271031T010000
END:STANDARD
END:VTIMEZONE
BEGIN:VEVENT
DTSTART;TZID=Europe/Paris:20260611T140000
DTEND;TZID=Europe/Paris:20260611T170000
DTSTAMP:20260423T102957
CREATED:20260227T150004Z
LAST-MODIFIED:20260227T150004Z
UID:10000805-1781186400-1781197200@medienchamaeleon.de
SUMMARY:Smartphones & Tablets sicher nutzen - Tipps zum kompetenten Umgang (Expert:innen)
DESCRIPTION:Das Smartphone bietet zusätzlich zum Telefonieren zahlreiche Möglichkeiten für den Alltag: Nachrichten\, Rezepte\, Reisen\, Fremdsprachen lernen und vieles mehr. \n\n\n\n\nWelche Apps sind im Alltag sinnvoll?\n\n\n\nWie kann ich Fotos bearbeiten und verschicken?\n\n\n\nWas zeigt mir mein Smartphone plötzlich an?\n\n\n\n\nGemeinsam entdecken wir\, wie man Apps richtig herunterlädt und nutzt. Wir zeigen Ihnen wichtige Anwendungen für den Alltag: Informationsportale\, Dienstleistungen\, Merkzettel usw. Mit einem Klick haben Sie viele Funktionen griffbereit und werden mit neuer Selbstverständlichkeit Ihr Smartphone nutzen. \nWir bitten um eine Voranmeldung im Seniorenrat Rochlitz per Mail an seniorenratRL1@web.de
URL:https://medienchamaeleon.de/event/smartphones-tablets-sicher-nutzen-tipps-zum-kompetenten-umgang-expertinnen
LOCATION:Seniorenrat Rochlitz\, Markt 13\, Rochlitz\, 09306
CATEGORIES:"Smartphones & Tablets sicher nutzen",Workshop
ATTACH;FMTTYPE=image/png:https://medienchamaeleon.de/wp-content/uploads/2023/06/Home-screen-bro.png
ORGANIZER;CN="MedienCham%C3%A4leon | YC Medien und Bildung gGmbH":MAILTO:kontakt@medienchamaeleon.de
END:VEVENT
BEGIN:VEVENT
DTSTART;TZID=Europe/Paris:20260617T130000
DTEND;TZID=Europe/Paris:20260617T160000
DTSTAMP:20260423T102957
CREATED:20260227T151046Z
LAST-MODIFIED:20260313T114408Z
UID:10000807-1781701200-1781712000@medienchamaeleon.de
SUMMARY:Mitreden können: Begriffe und Trends der digitalen Welt
DESCRIPTION:Die digitale Welt verändert sich ständig – und wir sind mittendrin.\nIn diesem Workshop möchten wir Sie einladen\, die moderne Medien in Ruhe kennenzulernen und besser zu verstehen.\nGemeinsam schauen wir uns an\, was hinter Begriffen wie „Filterblasen“ oder „Algorithmen“ steckt – und was das ganz praktisch für Sie bedeutet. Wir sprechen über aktuelle Internetseiten und Plattformen\, zeigen\, wie man Informationen überprüfen kann\, und erklären\, wie Sie Nachrichten besser einordnen und bewerten können. \nWie suche und finde ich Informationen? \nWie identifiziere ich vertrauenswürdige Nachrichten und Inhalte?\nWas sind Soziale Netzwerke und wie funktionieren sie?  \nDieser Workshop richtet sich an alle\, die sich mit den neusten Entwicklungen im sich ständig wandelnden Umfeld der digitalen Medien vertraut machen und ihre Kompetenzen mit diesen umzugehen\, stärken möchten. \nWir bitten um eine Voranmeldung in der Begegnungsstätte „Eva Becker“ per Mail an begegnungsstaette@gemeinschaftswerk-frankenberg.de oder telefonisch unter der 037206 70317
URL:https://medienchamaeleon.de/event/mitreden-koennen-begriffe-und-trends-der-digitalen-welt-5
LOCATION:Begegnungsstätte „Eva Becker“\, Bahnhofstr. 1\, Frankenberg\, 09669
CATEGORIES:Workshop
ATTACH;FMTTYPE=image/png:https://medienchamaeleon.de/wp-content/uploads/2025/06/Neues-aus-der-Welt-der-digitalen-Medien.png
ORGANIZER;CN="MedienCham%C3%A4leon | YC Medien und Bildung gGmbH":MAILTO:kontakt@medienchamaeleon.de
END:VEVENT
BEGIN:VEVENT
DTSTART;TZID=Europe/Paris:20260706T090000
DTEND;TZID=Europe/Paris:20260706T120000
DTSTAMP:20260423T102957
CREATED:20260227T134043Z
LAST-MODIFIED:20260227T134043Z
UID:10000799-1783328400-1783339200@medienchamaeleon.de
SUMMARY:Akutsprechstunde
DESCRIPTION:Persönliche Beratung zur Mediennutzung und Medienerziehung. \n\n\n\n\n\nWo finde ich Informationen im Internet? Woher kommen Fake-News? Wie funktionieren Soziale Medien? Was macht mein Kind oder Enkel eigentlich im Internet? \n\n\n\nEgal ob Familienregeln im Umgang mit Medien\, Fragen zu Sicherheit und Datenschutz oder Hilfe beim Umgang mit Neuen Medien – wir beantworten in unserer Sprechstunde Ihre offenen Fragen und helfen Ihnen einen souveränen Umgang mit digitalen Medien zu finden. \n\n\n\nDie Sprechstunde richtet sich an Senior*innen\, Eltern\, Erwachsene und pädagogische Fachkräfte. Sie können uns bei Fragen und Beratungsbedarf telefonisch\, online oder nach Absprache im Büro in Burgstädt erreichen. \nRufen Sie an unter: 03724 14079 oder 01575 0380412.
URL:https://medienchamaeleon.de/event/akutsprechstunde-26
LOCATION:MedienChamäleon\, Mittweidaer Straße 41\, Burgstädt\, 09217
CATEGORIES:Beratung
ATTACH;FMTTYPE=image/png:https://medienchamaeleon.de/wp-content/uploads/2025/07/mc-sprechstunde.png
END:VEVENT
END:VCALENDAR