BEGIN:VCALENDAR
VERSION:2.0
PRODID:-//MedienChamaeleon - ECPv6.15.20//NONSGML v1.0//EN
CALSCALE:GREGORIAN
METHOD:PUBLISH
X-WR-CALNAME:MedienChamaeleon
X-ORIGINAL-URL:https://medienchamaeleon.de
X-WR-CALDESC:Veranstaltungen für MedienChamaeleon
REFRESH-INTERVAL;VALUE=DURATION:PT1H
X-Robots-Tag:noindex
X-PUBLISHED-TTL:PT1H
BEGIN:VTIMEZONE
TZID:Europe/Paris
BEGIN:DAYLIGHT
TZOFFSETFROM:+0100
TZOFFSETTO:+0200
TZNAME:CEST
DTSTART:20200329T010000
END:DAYLIGHT
BEGIN:STANDARD
TZOFFSETFROM:+0200
TZOFFSETTO:+0100
TZNAME:CET
DTSTART:20201025T010000
END:STANDARD
BEGIN:DAYLIGHT
TZOFFSETFROM:+0100
TZOFFSETTO:+0200
TZNAME:CEST
DTSTART:20210328T010000
END:DAYLIGHT
BEGIN:STANDARD
TZOFFSETFROM:+0200
TZOFFSETTO:+0100
TZNAME:CET
DTSTART:20211031T010000
END:STANDARD
BEGIN:DAYLIGHT
TZOFFSETFROM:+0100
TZOFFSETTO:+0200
TZNAME:CEST
DTSTART:20220327T010000
END:DAYLIGHT
BEGIN:STANDARD
TZOFFSETFROM:+0200
TZOFFSETTO:+0100
TZNAME:CET
DTSTART:20221030T010000
END:STANDARD
END:VTIMEZONE
BEGIN:VEVENT
DTSTART;TZID=Europe/Paris:20211027T140000
DTEND;TZID=Europe/Paris:20211027T170000
DTSTAMP:20260422T103036
CREATED:20210816T080048Z
LAST-MODIFIED:20211019T113008Z
UID:365-1635343200-1635354000@medienchamaeleon.de
SUMMARY:Wissenswertes zur Smartphone-Nutzung - Einstellungen und Anwendungen
DESCRIPTION:Das Internet bietet zahlreiche Möglichkeiten der internen Vernetzung. Mit dem Smartphone haben sich die Kommunikations- und Nutzungsmöglichkeiten des Internets noch einmal vervielfältigt. Doch mit der Nutzung verschiedener Messenger\, sozialer Netzwerke oder anderer Apps muss man auch verschiedene Privatsphäreeinstellungen berücksichtigen. Und welche Anwendungen können am Smartphone eigentlich noch nützlich sein? In diesem Workshop besprechen wir die Grundlagen und geben Ihnen einen Überblick über praktische Kommunikationsplattformen und Sie erfahren\, wie sie diese konfigurieren und effektiv nutzen. Sie erhalten Einblicke in die Grundeinstellungen bis hin zu den definierten Berechtigungen. Wir sprechen über Messenger\, soziale Netzwerke und beantworten Ihre Fragen zu Nutzung und Möglichkeiten Ihres Gerätes.   \n\n\n\n Wir freuen uns auf einen gemeinsamen Austausch!  \n\n\n\n—Wir bitten um eine Voranmeldung unter (03722) 409668 oder per E-Mail an info@bibliothek-hartmannsdorf.de
URL:https://medienchamaeleon.de/event/wissenswertes-zur-smartphone-nutzung-einstellungen-und-anwendungen-2
LOCATION:Bibliothek Hartmannsdorf\, Carl-Kirchhof-Straße 27\, Hartmannsdorf\, 09232\, Deutschland
CATEGORIES:Workshop
ATTACH;FMTTYPE=image/jpeg:https://medienchamaeleon.de/wp-content/uploads/2021/08/wissenswertes-Smartphonenutzung-scaled.jpg
END:VEVENT
END:VCALENDAR