BEGIN:VCALENDAR
VERSION:2.0
PRODID:-//MedienChamaeleon - ECPv6.15.20//NONSGML v1.0//EN
CALSCALE:GREGORIAN
METHOD:PUBLISH
X-WR-CALNAME:MedienChamaeleon
X-ORIGINAL-URL:https://medienchamaeleon.de
X-WR-CALDESC:Veranstaltungen für MedienChamaeleon
REFRESH-INTERVAL;VALUE=DURATION:PT1H
X-Robots-Tag:noindex
X-PUBLISHED-TTL:PT1H
BEGIN:VTIMEZONE
TZID:Europe/Paris
BEGIN:DAYLIGHT
TZOFFSETFROM:+0100
TZOFFSETTO:+0200
TZNAME:CEST
DTSTART:20200329T010000
END:DAYLIGHT
BEGIN:STANDARD
TZOFFSETFROM:+0200
TZOFFSETTO:+0100
TZNAME:CET
DTSTART:20201025T010000
END:STANDARD
BEGIN:DAYLIGHT
TZOFFSETFROM:+0100
TZOFFSETTO:+0200
TZNAME:CEST
DTSTART:20210328T010000
END:DAYLIGHT
BEGIN:STANDARD
TZOFFSETFROM:+0200
TZOFFSETTO:+0100
TZNAME:CET
DTSTART:20211031T010000
END:STANDARD
BEGIN:DAYLIGHT
TZOFFSETFROM:+0100
TZOFFSETTO:+0200
TZNAME:CEST
DTSTART:20220327T010000
END:DAYLIGHT
BEGIN:STANDARD
TZOFFSETFROM:+0200
TZOFFSETTO:+0100
TZNAME:CET
DTSTART:20221030T010000
END:STANDARD
END:VTIMEZONE
BEGIN:VEVENT
DTSTART;TZID=Europe/Paris:20211207T090000
DTEND;TZID=Europe/Paris:20211207T120000
DTSTAMP:20260421T154809
CREATED:20211125T121729Z
LAST-MODIFIED:20211125T122624Z
UID:4353-1638867600-1638878400@medienchamaeleon.de
SUMMARY:Wie bekomme ich meine Fotos auf den Computer? Hilfreiche Tipps zur Fotobearbeitung und Erstellung von Präsentationen & Fotobüchern.
DESCRIPTION:Fotos erzählen Geschichten\, erhalten Erinnerungen und wecken Emotionen. Die Bildqualität aktueller Smartphones und Tablets ist heutzutage so gut\, dass viele Momente spontan eingefangen werden. \n\n\n\nDamit diese nicht in Vergessenheit geraten\, erlernen Sie in diesem Workshop die Grundlagen der digitalen Fotobearbeitung durch einfach Apps. \n\n\n\nWir stellen uns der Aufgabe\, wie die Fotos auf den Computer gelangen und von dort aus verschickt oder für den Druck vorbereitet werden. Zusätzlich erhalten Sie Informationen zur Erstellung von Fotobüchern\, digitalen Bilderrahmen und dem Versenden von Postkarten via App. Wir freuen uns auf einen gemeinsamen Austausch! \n\n\n\n—Eine Teilnahme ist per Anmeldung über unser Kontaktformular oder direkt auf der Seite Online-Veranstaltungen möglich.
URL:https://medienchamaeleon.de/event/wie-bekomme-ich-meine-fotos-auf-den-computer-hilfreiche-tipps-zur-fotobearbeitung-und-erstellung-von-praesentationen-fotobuechern-2
LOCATION:Onlineveranstaltung
CATEGORIES:Online,Workshop
ATTACH;FMTTYPE=image/jpeg:https://medienchamaeleon.de/wp-content/uploads/Angebotsbilder/Fotos-auf-den-Computer-scaled.jpg
END:VEVENT
END:VCALENDAR