BEGIN:VCALENDAR
VERSION:2.0
PRODID:-//MedienChamaeleon - ECPv6.15.20//NONSGML v1.0//EN
CALSCALE:GREGORIAN
METHOD:PUBLISH
X-WR-CALNAME:MedienChamaeleon
X-ORIGINAL-URL:https://medienchamaeleon.de
X-WR-CALDESC:Veranstaltungen für MedienChamaeleon
REFRESH-INTERVAL;VALUE=DURATION:PT1H
X-Robots-Tag:noindex
X-PUBLISHED-TTL:PT1H
BEGIN:VTIMEZONE
TZID:Europe/Paris
BEGIN:DAYLIGHT
TZOFFSETFROM:+0100
TZOFFSETTO:+0200
TZNAME:CEST
DTSTART:20230326T010000
END:DAYLIGHT
BEGIN:STANDARD
TZOFFSETFROM:+0200
TZOFFSETTO:+0100
TZNAME:CET
DTSTART:20231029T010000
END:STANDARD
BEGIN:DAYLIGHT
TZOFFSETFROM:+0100
TZOFFSETTO:+0200
TZNAME:CEST
DTSTART:20240331T010000
END:DAYLIGHT
BEGIN:STANDARD
TZOFFSETFROM:+0200
TZOFFSETTO:+0100
TZNAME:CET
DTSTART:20241027T010000
END:STANDARD
BEGIN:DAYLIGHT
TZOFFSETFROM:+0100
TZOFFSETTO:+0200
TZNAME:CEST
DTSTART:20250330T010000
END:DAYLIGHT
BEGIN:STANDARD
TZOFFSETFROM:+0200
TZOFFSETTO:+0100
TZNAME:CET
DTSTART:20251026T010000
END:STANDARD
END:VTIMEZONE
BEGIN:VEVENT
DTSTART;TZID=Europe/Paris:20240515T180000
DTEND;TZID=Europe/Paris:20240515T200000
DTSTAMP:20260423T103736
CREATED:20240118T095157Z
LAST-MODIFIED:20240118T095252Z
UID:8284-1715796000-1715803200@medienchamaeleon.de
SUMMARY:Was schaust du da? - Geeignete Medieninhalte für Kita- & Vorschulkinder
DESCRIPTION:Smartphone und Co haben längst unseren Familienalltag durchdrungen. Unsere Kinder wachsen mit den digitalen Medien auf. Umso wichtiger ist es\, auf kindgerechte Inhalte und eine sichere Nutzung zu achten. Mit dem Schulstart denken Eltern häufig über ein Smartphone für das eigene Kind nach – es bieten sich Möglichkeiten zur Kommunikation und Sicherheit. \n\n\n\n\nWelche digitalen Medien sind für unsere Kinder geeignet?\n\n\n\nWann ist ein Kind bereit für ein eigenes Smartphone?\n\n\n\nWelche Formate oder Inhalte kann mein Kind konsumieren und wie kann ich die Nutzung einschränken?\n\n\n\n\n \n\n\n\nNach einem kurzen Einblick in die kindliche Entwicklung werden wir darüber sprechen\, wie Sie den Medienumgang der Kinder aktiv begleiten und gestalten können. Außerdem betrachten wir Herausforderungen und Potenziale der Mediennutzung unserer Kinder und wollen Sie darin bestärken\, diese bewusst im Blick zu behalten und darüber im Gespräch zu bleiben. Individuelle Fragen sind sehr willkommen. \n\n\n\nWir bitten um eine Anmeldung in der Stadtbibliothek Hainichen per Mail oder telefonisch unter 037207 53076.
URL:https://medienchamaeleon.de/event/was-schaust-du-da-geeignete-medieninhalte-fuer-kita-vorschulkinder-3
LOCATION:Stadtbibliothek Hainichen\, Markt 9\, Hainichen\, Sachsen\, 09661\, Deutschland
CATEGORIES:Informationsveranstaltung
ATTACH;FMTTYPE=image/png:https://medienchamaeleon.de/wp-content/uploads/2023/06/Mobile-bro-orange.png
END:VEVENT
END:VCALENDAR