BEGIN:VCALENDAR
VERSION:2.0
PRODID:-//MedienChamaeleon - ECPv6.15.20//NONSGML v1.0//EN
CALSCALE:GREGORIAN
METHOD:PUBLISH
X-WR-CALNAME:MedienChamaeleon
X-ORIGINAL-URL:https://medienchamaeleon.de
X-WR-CALDESC:Veranstaltungen für MedienChamaeleon
REFRESH-INTERVAL;VALUE=DURATION:PT1H
X-Robots-Tag:noindex
X-PUBLISHED-TTL:PT1H
BEGIN:VTIMEZONE
TZID:Europe/Paris
BEGIN:DAYLIGHT
TZOFFSETFROM:+0100
TZOFFSETTO:+0200
TZNAME:CEST
DTSTART:20210328T010000
END:DAYLIGHT
BEGIN:STANDARD
TZOFFSETFROM:+0200
TZOFFSETTO:+0100
TZNAME:CET
DTSTART:20211031T010000
END:STANDARD
BEGIN:DAYLIGHT
TZOFFSETFROM:+0100
TZOFFSETTO:+0200
TZNAME:CEST
DTSTART:20220327T010000
END:DAYLIGHT
BEGIN:STANDARD
TZOFFSETFROM:+0200
TZOFFSETTO:+0100
TZNAME:CET
DTSTART:20221030T010000
END:STANDARD
BEGIN:DAYLIGHT
TZOFFSETFROM:+0100
TZOFFSETTO:+0200
TZNAME:CEST
DTSTART:20230326T010000
END:DAYLIGHT
BEGIN:STANDARD
TZOFFSETFROM:+0200
TZOFFSETTO:+0100
TZNAME:CET
DTSTART:20231029T010000
END:STANDARD
END:VTIMEZONE
BEGIN:VEVENT
DTSTART;TZID=Europe/Paris:20220111T140000
DTEND;TZID=Europe/Paris:20220111T170000
DTSTAMP:20260425T125527
CREATED:20211208T112105Z
LAST-MODIFIED:20211208T112107Z
UID:4637-1641909600-1641920400@medienchamaeleon.de
SUMMARY:Unterwegs im Internet – Seiten und Inhalte selbst gestalten
DESCRIPTION:Das Internet ist unser täglicher Begleiter – es bietet unendliche Möglichkeiten und eine Vielzahl an Informationen. Nur durch eine aktive Internetnutzung können Sie auch aktiv am Geschehen teilhaben. \n\n\n\nWie benutze ich eine Suchmaschine?Kann jeder eine eigene Webseite haben? \n\n\n\nGemeinsam wollen wir über eine verantwortungsvolle Internetnutzung sprechen und uns zum Thema Suchmaschinen\, Recherche und seriöse Quellen austauschen. Außerdem geht es um das Erstellen eigener Inhalte – egal ob Webseite\, Blog\, Onlinekommentar oder Facebook-Post. Wir freuen uns auf einen gemeinsamen Austausch! \n\n\n\n—Eine Teilnahme ist per Anmeldung über unser Kontaktformular oder direkt auf der Seite Online-Veranstaltungen möglich.
URL:https://medienchamaeleon.de/event/unterwegs-im-internet-seiten-und-inhalte-selbst-gestalten-4
LOCATION:Onlineveranstaltung
CATEGORIES:Online,Workshop
ATTACH;FMTTYPE=image/jpeg:https://medienchamaeleon.de/wp-content/uploads/2021/11/07_unterwegs-im-Internet-scaled.jpg
END:VEVENT
END:VCALENDAR