BEGIN:VCALENDAR
VERSION:2.0
PRODID:-//MedienChamaeleon - ECPv6.15.20//NONSGML v1.0//EN
CALSCALE:GREGORIAN
METHOD:PUBLISH
X-WR-CALNAME:MedienChamaeleon
X-ORIGINAL-URL:https://medienchamaeleon.de
X-WR-CALDESC:Veranstaltungen für MedienChamaeleon
REFRESH-INTERVAL;VALUE=DURATION:PT1H
X-Robots-Tag:noindex
X-PUBLISHED-TTL:PT1H
BEGIN:VTIMEZONE
TZID:Europe/Paris
BEGIN:DAYLIGHT
TZOFFSETFROM:+0100
TZOFFSETTO:+0200
TZNAME:CEST
DTSTART:20230326T010000
END:DAYLIGHT
BEGIN:STANDARD
TZOFFSETFROM:+0200
TZOFFSETTO:+0100
TZNAME:CET
DTSTART:20231029T010000
END:STANDARD
BEGIN:DAYLIGHT
TZOFFSETFROM:+0100
TZOFFSETTO:+0200
TZNAME:CEST
DTSTART:20240331T010000
END:DAYLIGHT
BEGIN:STANDARD
TZOFFSETFROM:+0200
TZOFFSETTO:+0100
TZNAME:CET
DTSTART:20241027T010000
END:STANDARD
BEGIN:DAYLIGHT
TZOFFSETFROM:+0100
TZOFFSETTO:+0200
TZNAME:CEST
DTSTART:20250330T010000
END:DAYLIGHT
BEGIN:STANDARD
TZOFFSETFROM:+0200
TZOFFSETTO:+0100
TZNAME:CET
DTSTART:20251026T010000
END:STANDARD
END:VTIMEZONE
BEGIN:VEVENT
DTSTART;TZID=Europe/Paris:20240903T140000
DTEND;TZID=Europe/Paris:20240903T170000
DTSTAMP:20260423T103903
CREATED:20240619T134434Z
LAST-MODIFIED:20240619T141921Z
UID:8406-1725372000-1725382800@medienchamaeleon.de
SUMMARY:Smartphones und Tablets sicher nutzen – Tipps und Tricks für einen sorgenfreien Umgang (Neulinge)
DESCRIPTION:Sie sind Neuling in punkto Smartphonenutzung? Das Internet bietet zahlreiche Möglichkeiten\, gemeinsam in Kontakt zu bleiben\, sich zu informieren und unterhalten zu lassen. Dank Smartphone und Tablet können wir das überall und jederzeit. \n\n\n\n\nWie verwende ich mein Smartphone?\n\n\n\nWelche Apps und Anwendungen sind nützlich?\n\n\n\nWie gehe ich mit persönlichen Daten und meiner Privatsphäre um?\n\n\n\n\nGemeinsam sprechen wir über die Grundfunktionen der Geräte und beantworten Ihre Fragen zu deren Nutzung. Sie erfahren\, wie Sie Ihr Smartphone auf Ihre Bedürfnisse anpassen und sicher nutzen. \n\n\n\nWir bitten um eine Voranmeldung in der Bibliothek Burgstädt unter 03724/63220 oder per E-Mail an bibliothek@stadt-burgstaedt.de.
URL:https://medienchamaeleon.de/event/smartphones-und-tablets-sicher-nutzen-tipps-und-tricks-fuer-einen-sorgenfreien-umgang-beginnerin-4
LOCATION:Stadtbibliothek Burgstädt – Haus der Familienbibliothek\, Dr. Robert-Koch-Str. 40\, Burgstädt\, 09217
CATEGORIES:Workshop
ATTACH;FMTTYPE=image/png:https://medienchamaeleon.de/wp-content/uploads/2023/06/Confirmed-bro.png
END:VEVENT
END:VCALENDAR