BEGIN:VCALENDAR
VERSION:2.0
PRODID:-//MedienChamaeleon - ECPv6.15.20//NONSGML v1.0//EN
CALSCALE:GREGORIAN
METHOD:PUBLISH
X-WR-CALNAME:MedienChamaeleon
X-ORIGINAL-URL:https://medienchamaeleon.de
X-WR-CALDESC:Veranstaltungen für MedienChamaeleon
REFRESH-INTERVAL;VALUE=DURATION:PT1H
X-Robots-Tag:noindex
X-PUBLISHED-TTL:PT1H
BEGIN:VTIMEZONE
TZID:Europe/Paris
BEGIN:DAYLIGHT
TZOFFSETFROM:+0100
TZOFFSETTO:+0200
TZNAME:CEST
DTSTART:20220327T010000
END:DAYLIGHT
BEGIN:STANDARD
TZOFFSETFROM:+0200
TZOFFSETTO:+0100
TZNAME:CET
DTSTART:20221030T010000
END:STANDARD
BEGIN:DAYLIGHT
TZOFFSETFROM:+0100
TZOFFSETTO:+0200
TZNAME:CEST
DTSTART:20230326T010000
END:DAYLIGHT
BEGIN:STANDARD
TZOFFSETFROM:+0200
TZOFFSETTO:+0100
TZNAME:CET
DTSTART:20231029T010000
END:STANDARD
BEGIN:DAYLIGHT
TZOFFSETFROM:+0100
TZOFFSETTO:+0200
TZNAME:CEST
DTSTART:20240331T010000
END:DAYLIGHT
BEGIN:STANDARD
TZOFFSETFROM:+0200
TZOFFSETTO:+0100
TZNAME:CET
DTSTART:20241027T010000
END:STANDARD
END:VTIMEZONE
BEGIN:VEVENT
DTSTART;TZID=Europe/Paris:20230615T140000
DTEND;TZID=Europe/Paris:20230615T170000
DTSTAMP:20260422T142928
CREATED:20230605T120026Z
LAST-MODIFIED:20230605T120304Z
UID:7803-1686837600-1686848400@medienchamaeleon.de
SUMMARY:Smartphones & Tablets sicher nutzen – Hilfreiche Tipps praktisch umsetzen
DESCRIPTION:Das Internet bietet zahlreiche Möglichkeiten in Kontakt zu bleiben\, sich zu informieren und sich unterhalten zu lassen. Durch Smartphone und Tablet geht das überall und zu jeder Zeit. Sie haben Fragen? Wir haben die Antworten: \n\n\n\nWie verwende ich mein Smartphone bzw. Tablet?Welche Anwendungen am Smartphone sind nützlich?Wie kann ich Fotos empfangen und verschicken?Welche Privatsphäre-Einstellungen müssen berücksichtigt werden?Was zeigt mir mein Smartphone plötzlich an? \n\n\n\nWir sprechen über die Grundfunktionen der Geräte und beantworten Ihre Fragen zu Nutzung und Möglichkeiten Ihres Smartphones. Sie erfahren\, wie sie Ihr Gerät für sich anpassen und effektiv verwenden. \n\n\n\nWir bitten um eine Voranmeldung unter 03724 63 220 oder per E-Mail an bibliothek@stadt-burgstaedt.de
URL:https://medienchamaeleon.de/event/smartphones-tablets-sicher-nutzen-hilfreiche-tipps-praktisch-umsetzen-6-in-burgstaedt
LOCATION:Stadtbibliothek Burgstädt – Haus der Familienbibliothek\, Dr. Robert-Koch-Str. 40\, Burgstädt\, 09217
CATEGORIES:Workshop
ATTACH;FMTTYPE=image/jpeg:https://medienchamaeleon.de/wp-content/uploads/2022/12/14_Smartphones_Tablets-sichere-nutzen.jpg
END:VEVENT
END:VCALENDAR