BEGIN:VCALENDAR
VERSION:2.0
PRODID:-//MedienChamaeleon - ECPv6.15.20//NONSGML v1.0//EN
CALSCALE:GREGORIAN
METHOD:PUBLISH
X-WR-CALNAME:MedienChamaeleon
X-ORIGINAL-URL:https://medienchamaeleon.de
X-WR-CALDESC:Veranstaltungen für MedienChamaeleon
REFRESH-INTERVAL;VALUE=DURATION:PT1H
X-Robots-Tag:noindex
X-PUBLISHED-TTL:PT1H
BEGIN:VTIMEZONE
TZID:Europe/Paris
BEGIN:DAYLIGHT
TZOFFSETFROM:+0100
TZOFFSETTO:+0200
TZNAME:CEST
DTSTART:20220327T010000
END:DAYLIGHT
BEGIN:STANDARD
TZOFFSETFROM:+0200
TZOFFSETTO:+0100
TZNAME:CET
DTSTART:20221030T010000
END:STANDARD
BEGIN:DAYLIGHT
TZOFFSETFROM:+0100
TZOFFSETTO:+0200
TZNAME:CEST
DTSTART:20230326T010000
END:DAYLIGHT
BEGIN:STANDARD
TZOFFSETFROM:+0200
TZOFFSETTO:+0100
TZNAME:CET
DTSTART:20231029T010000
END:STANDARD
BEGIN:DAYLIGHT
TZOFFSETFROM:+0100
TZOFFSETTO:+0200
TZNAME:CEST
DTSTART:20240331T010000
END:DAYLIGHT
BEGIN:STANDARD
TZOFFSETFROM:+0200
TZOFFSETTO:+0100
TZNAME:CET
DTSTART:20241027T010000
END:STANDARD
END:VTIMEZONE
BEGIN:VEVENT
DTSTART;TZID=Europe/Paris:20230322T090000
DTEND;TZID=Europe/Paris:20230322T110000
DTSTAMP:20260421T115923
CREATED:20230201T072708Z
LAST-MODIFIED:20230201T072805Z
UID:7313-1679475600-1679482800@medienchamaeleon.de
SUMMARY:Sicher im Netz – Wie schützt man sich vor Gefahren aus dem Internet?
DESCRIPTION:Fast jeder Schritt im Internet ist nachvollziehbar. Egal\, ob Sie ein neues Computerspiel ausprobieren oder die Öffnungszeiten vom Lieblingsladen googlen – unsere Daten sind für Unternehmen von unschätzbarem Wert. Der Medienkonsum eines jeden Einzelnen kann beeinflusst werden. Aber auch sogenannte „Phishing Mails“ und „Fake Anrufe“ können uns erreichen und uns dazu verleiten auf falsche Versprechen hereinzufallen. \n\n\n\nWie werden diese Daten gespeichert und für was werden sie verwendet?Wie können wir unsere Daten schützen? \n\n\n\nWir besprechen theoretische Grundlagen zur Datenschutzgrundverordnung und erklären Begrifflichkeiten wie „Smart Devices“\, „Cloud“ oder „Cookies“. Außerdem geben wir einen Überblick wie persönliche Daten gesichert werden können und sprechen über die richtigen Einstellungen. \n\n\n\nWir bitten um eine Voranmeldung unter 037206 641237 oder per E-Mail an bibliothek@frankenberg-sachsen.de
URL:https://medienchamaeleon.de/event/sicher-im-netz-wie-schuetzt-man-sich-vor-gefahren-aus-dem-internet-3
LOCATION:Stadtbibliothek Frankenberg/Sa.\, Markt 18\, Frankenberg\, Sachsen\, 09669
CATEGORIES:Informationsveranstaltung
ATTACH;FMTTYPE=image/jpeg:https://medienchamaeleon.de/wp-content/uploads/2022/12/03_Sicher-im-Netz-Wie-schuetzt-man-sich-vor-Gefahren-aus-dem-Internet.jpg
END:VEVENT
END:VCALENDAR