BEGIN:VCALENDAR
VERSION:2.0
PRODID:-//MedienChamaeleon - ECPv6.15.20//NONSGML v1.0//EN
CALSCALE:GREGORIAN
METHOD:PUBLISH
X-WR-CALNAME:MedienChamaeleon
X-ORIGINAL-URL:https://medienchamaeleon.de
X-WR-CALDESC:Veranstaltungen für MedienChamaeleon
REFRESH-INTERVAL;VALUE=DURATION:PT1H
X-Robots-Tag:noindex
X-PUBLISHED-TTL:PT1H
BEGIN:VTIMEZONE
TZID:Europe/Paris
BEGIN:DAYLIGHT
TZOFFSETFROM:+0100
TZOFFSETTO:+0200
TZNAME:CEST
DTSTART:20220327T010000
END:DAYLIGHT
BEGIN:STANDARD
TZOFFSETFROM:+0200
TZOFFSETTO:+0100
TZNAME:CET
DTSTART:20221030T010000
END:STANDARD
BEGIN:DAYLIGHT
TZOFFSETFROM:+0100
TZOFFSETTO:+0200
TZNAME:CEST
DTSTART:20230326T010000
END:DAYLIGHT
BEGIN:STANDARD
TZOFFSETFROM:+0200
TZOFFSETTO:+0100
TZNAME:CET
DTSTART:20231029T010000
END:STANDARD
BEGIN:DAYLIGHT
TZOFFSETFROM:+0100
TZOFFSETTO:+0200
TZNAME:CEST
DTSTART:20240331T010000
END:DAYLIGHT
BEGIN:STANDARD
TZOFFSETFROM:+0200
TZOFFSETTO:+0100
TZNAME:CET
DTSTART:20241027T010000
END:STANDARD
END:VTIMEZONE
BEGIN:VEVENT
DTSTART;TZID=Europe/Paris:20230313T180000
DTEND;TZID=Europe/Paris:20230313T210000
DTSTAMP:20260421T103432
CREATED:20230103T165248Z
LAST-MODIFIED:20230103T165249Z
UID:7074-1678730400-1678741200@medienchamaeleon.de
SUMMARY:Schon vernetzt? Film & Diskussion zum Thema Soziale Medien
DESCRIPTION:Soziale Netzwerke bilden den Kernpunkt digitaler Kommunikation und Interaktion. Menschen verabreden sich\, teilen Momente aus ihren Leben\, knüpfen neue Kontakte oder finden alte Freunde wieder.  \n\n\n\nWie funktionieren Soziale Medien? Wie werden die Sozialen Medien von Wirtschaft und Politik genutzt? Auf welche Einstellungen müssen wir achten?  \n\n\n\nWir schauen gemeinsam einen Film zum Thema und sprechen anschließend über Chancen und Risiken Sozialer Medien. Es geht beispielsweise um Einfluss\, Selbstdarstellung\, die Verrohung der Sprache und den Schutz der Privatsphäre.  \n\n\n\nWir bitten um eine Voranmeldung unter 037381 / 654660 oder per E-Mail an buecherei@penig.de
URL:https://medienchamaeleon.de/event/schon-vernetzt-film-diskussion-zum-thema-soziale-medien
LOCATION:Karstas kleines Kino\, Schloßstraße 15\, Penig\, Sachsen\, 09322\, Deutschland
CATEGORIES:Informationsveranstaltung
ATTACH;FMTTYPE=image/jpeg:https://medienchamaeleon.de/wp-content/uploads/2022/12/08_Schon-vernetzt-Film-Diskussion-zum-Thema-Soziale-Medien.jpg
END:VEVENT
END:VCALENDAR