BEGIN:VCALENDAR
VERSION:2.0
PRODID:-//MedienChamaeleon - ECPv6.15.20//NONSGML v1.0//EN
CALSCALE:GREGORIAN
METHOD:PUBLISH
X-WR-CALNAME:MedienChamaeleon
X-ORIGINAL-URL:https://medienchamaeleon.de
X-WR-CALDESC:Veranstaltungen für MedienChamaeleon
REFRESH-INTERVAL;VALUE=DURATION:PT1H
X-Robots-Tag:noindex
X-PUBLISHED-TTL:PT1H
BEGIN:VTIMEZONE
TZID:Europe/Paris
BEGIN:DAYLIGHT
TZOFFSETFROM:+0100
TZOFFSETTO:+0200
TZNAME:CEST
DTSTART:20240331T010000
END:DAYLIGHT
BEGIN:STANDARD
TZOFFSETFROM:+0200
TZOFFSETTO:+0100
TZNAME:CET
DTSTART:20241027T010000
END:STANDARD
BEGIN:DAYLIGHT
TZOFFSETFROM:+0100
TZOFFSETTO:+0200
TZNAME:CEST
DTSTART:20250330T010000
END:DAYLIGHT
BEGIN:STANDARD
TZOFFSETFROM:+0200
TZOFFSETTO:+0100
TZNAME:CET
DTSTART:20251026T010000
END:STANDARD
BEGIN:DAYLIGHT
TZOFFSETFROM:+0100
TZOFFSETTO:+0200
TZNAME:CEST
DTSTART:20260329T010000
END:DAYLIGHT
BEGIN:STANDARD
TZOFFSETFROM:+0200
TZOFFSETTO:+0100
TZNAME:CET
DTSTART:20261025T010000
END:STANDARD
END:VTIMEZONE
BEGIN:VEVENT
DTSTART;TZID=Europe/Paris:20250515T090000
DTEND;TZID=Europe/Paris:20250515T120000
DTSTAMP:20260419T142329
CREATED:20250121T093455Z
LAST-MODIFIED:20250121T094229Z
UID:8738-1747299600-1747310400@medienchamaeleon.de
SUMMARY:Neues aus der Welt der digitalen Medien: Sie fragen\, wir antworten
DESCRIPTION:Waren Sie schon bei einer unserer Veranstaltungen und es sind noch Fragen offengeblieben? Wollen Sie in Austausch treten und noch mehr über die Mediennutzung lernen? Haben Sie ein konkretes Problem mit Ihren Geräten oder einer bestimmten Anwendung?  \n\n\n\nWie funktioniert mein Smartphone oder Tablet?Wie suche und finde ich Informationen?Wie identifiziere ich vertrauenswürdige Nachrichten und Inhalte?Oder\, oder\, oder … \n\n\n\nUnser Medientreff richtet sich an alle\, die offene Fragen bezüglich Mediennutzung\, Medieninhalten\, aktuellen Themen oder sonstigen Herausforderungen im Umgang mit neuen Medien haben. \n\n\n\nBitte melden Sie sich per Mail oder telefonisch unter der 037322 2246 bei der Bibliothek Brand-Erbisdorf für die Veranstaltung an.
URL:https://medienchamaeleon.de/event/neues-aus-der-welt-der-digitalen-medien-sie-fragen-wir-antworten
LOCATION:Bibliothek Brand-Erbisdorf\, August-Bebel-Straße 29\, Brand-Erbisdorf\, 09618
CATEGORIES:Workshop
ATTACH;FMTTYPE=image/png:https://medienchamaeleon.de/wp-content/uploads/2023/06/Chat-bot-bro.png
ORGANIZER;CN="MedienCham%C3%A4leon | YC Medien und Bildung gGmbH":MAILTO:kontakt@medienchamaeleon.de
END:VEVENT
END:VCALENDAR