BEGIN:VCALENDAR
VERSION:2.0
PRODID:-//MedienChamaeleon - ECPv6.15.20//NONSGML v1.0//EN
CALSCALE:GREGORIAN
METHOD:PUBLISH
X-WR-CALNAME:MedienChamaeleon
X-ORIGINAL-URL:https://medienchamaeleon.de
X-WR-CALDESC:Veranstaltungen für MedienChamaeleon
REFRESH-INTERVAL;VALUE=DURATION:PT1H
X-Robots-Tag:noindex
X-PUBLISHED-TTL:PT1H
BEGIN:VTIMEZONE
TZID:Europe/Paris
BEGIN:DAYLIGHT
TZOFFSETFROM:+0100
TZOFFSETTO:+0200
TZNAME:CEST
DTSTART:20240331T010000
END:DAYLIGHT
BEGIN:STANDARD
TZOFFSETFROM:+0200
TZOFFSETTO:+0100
TZNAME:CET
DTSTART:20241027T010000
END:STANDARD
BEGIN:DAYLIGHT
TZOFFSETFROM:+0100
TZOFFSETTO:+0200
TZNAME:CEST
DTSTART:20250330T010000
END:DAYLIGHT
BEGIN:STANDARD
TZOFFSETFROM:+0200
TZOFFSETTO:+0100
TZNAME:CET
DTSTART:20251026T010000
END:STANDARD
BEGIN:DAYLIGHT
TZOFFSETFROM:+0100
TZOFFSETTO:+0200
TZNAME:CEST
DTSTART:20260329T010000
END:DAYLIGHT
BEGIN:STANDARD
TZOFFSETFROM:+0200
TZOFFSETTO:+0100
TZNAME:CET
DTSTART:20261025T010000
END:STANDARD
END:VTIMEZONE
BEGIN:VEVENT
DTSTART;TZID=Europe/Paris:20250508T100000
DTEND;TZID=Europe/Paris:20250508T130000
DTSTAMP:20260424T100538
CREATED:20250320T081113Z
LAST-MODIFIED:20250429T122448Z
UID:8851-1746698400-1746709200@medienchamaeleon.de
SUMMARY:Mobile Medien: Aktiv im Alltag – Apps\, Tools und Praktiken für mehr Teilhabe
DESCRIPTION:Smartphone und Tablet sind mittlerweile echte Alltagshelfer. Doch unsere digitalen „Hosentaschenhelfer“ können uns auch außerhalb unserer vier Wände viel Freude bereiten. Wir gehen gemeinsam auf Entdeckungsreise\, um die vielfältigen und unterhaltsamen Funktionen unserer ‚Hosentaschenhelfer‘ kennenzulernen. \n\n\n\n\nWie informiere ich mich zu aktuellen\, lokalen Geschehnissen? \n\n\n\nWie teile ich die schönen Momente am besten mit meiner Familie?\n\n\n\nWelche Route wähle ich heute?\n\n\n\nUnd wie viele Schritte habe ich heute zurückgelegt?\n\n\n\n\nGemeinsam erkunden wir die Möglichkeiten von Wettervorhersage und Routenplanung\, Pflanzenbestimmung und Co. Wir verbinden die neuen Medien mit einem erlebnisreichen Ausflug in die Natur – für die ganze Familie! \n\n\n\n\n\n\n\n\n\n\n\nBitte melden Sie sich in der Bücherstube Bräunsdorf telefonisch unter 037321 4682 für die Veranstaltung an.
URL:https://medienchamaeleon.de/event/mobile-medien-aktiv-im-alltag-apps-tools-und-praktiken-fuer-mehr-teilhabe-2
LOCATION:Bücherstube Bräunsdorf\, Romanus-Teller-Str. 1\, Oberschöna\, 09600
CATEGORIES:Wanderung,Workshop
ATTACH;FMTTYPE=image/png:https://medienchamaeleon.de/wp-content/uploads/2023/06/Digital-transformation-bro.png
ORGANIZER;CN="MedienCham%C3%A4leon | YC Medien und Bildung gGmbH":MAILTO:kontakt@medienchamaeleon.de
END:VEVENT
END:VCALENDAR