BEGIN:VCALENDAR
VERSION:2.0
PRODID:-//MedienChamaeleon - ECPv6.15.20//NONSGML v1.0//EN
CALSCALE:GREGORIAN
METHOD:PUBLISH
X-WR-CALNAME:MedienChamaeleon
X-ORIGINAL-URL:https://medienchamaeleon.de
X-WR-CALDESC:Veranstaltungen für MedienChamaeleon
REFRESH-INTERVAL;VALUE=DURATION:PT1H
X-Robots-Tag:noindex
X-PUBLISHED-TTL:PT1H
BEGIN:VTIMEZONE
TZID:Europe/Paris
BEGIN:DAYLIGHT
TZOFFSETFROM:+0100
TZOFFSETTO:+0200
TZNAME:CEST
DTSTART:20200329T010000
END:DAYLIGHT
BEGIN:STANDARD
TZOFFSETFROM:+0200
TZOFFSETTO:+0100
TZNAME:CET
DTSTART:20201025T010000
END:STANDARD
BEGIN:DAYLIGHT
TZOFFSETFROM:+0100
TZOFFSETTO:+0200
TZNAME:CEST
DTSTART:20210328T010000
END:DAYLIGHT
BEGIN:STANDARD
TZOFFSETFROM:+0200
TZOFFSETTO:+0100
TZNAME:CET
DTSTART:20211031T010000
END:STANDARD
BEGIN:DAYLIGHT
TZOFFSETFROM:+0100
TZOFFSETTO:+0200
TZNAME:CEST
DTSTART:20220327T010000
END:DAYLIGHT
BEGIN:STANDARD
TZOFFSETFROM:+0200
TZOFFSETTO:+0100
TZNAME:CET
DTSTART:20221030T010000
END:STANDARD
END:VTIMEZONE
BEGIN:VEVENT
DTSTART;TZID=Europe/Paris:20211214T100000
DTEND;TZID=Europe/Paris:20211214T120000
DTSTAMP:20260424T100350
CREATED:20211125T122914Z
LAST-MODIFIED:20211125T122915Z
UID:4369-1639476000-1639483200@medienchamaeleon.de
SUMMARY:Lebenslanges Lernen im Internet. Informationen über gute Weiterbildungsmöglichkeiten.
DESCRIPTION:Der digitale Wandel verändert nicht nur unsere eigene Mediennutzung\, sondern auch gesellschaftliche Strukturen und damit die Anforderungen an Arbeitgeber*innen und Arbeitnehmer*innen. Schulen\, Krankenhäuser\, Restaurants und viele weitere wirtschaftliche und gesellschaftliche Institutionen passen sich an. \n\n\n\nWelche medialen Möglichkeiten nutzen Arbeitgeber*innen heutzutage und wie hat sich der Arbeitsmarkt durch die Digitalisierung verändert? \n\n\n\nWir versuchen den Facettenreichtum des aktuellen Arbeitsmarktes zu veranschaulichen und informieren über digitale Weiterbildungsmöglichkeiten. Ob Webinare\, Online-Fortbildungen oder das Digitale Studium – Wir nennen seriöse Anbieter und geben Tipps zur Anmeldung. Wir freuen uns auf einen gemeinsamen Austausch! \n\n\n\n—Eine Teilnahme ist per Anmeldung über unser Kontaktformular oder direkt auf der Seite Online-Veranstaltungen möglich.
URL:https://medienchamaeleon.de/event/lebenslanges-lernen-im-internet-informationen-ueber-gute-weiterbildungsmoeglichkeiten-3
LOCATION:Onlineveranstaltung
CATEGORIES:Informationsveranstaltung,Online
ATTACH;FMTTYPE=image/jpeg:https://medienchamaeleon.de/wp-content/uploads/2021/11/Lernen-im-Internet-scaled.jpeg
END:VEVENT
END:VCALENDAR