BEGIN:VCALENDAR
VERSION:2.0
PRODID:-//MedienChamaeleon - ECPv6.15.20//NONSGML v1.0//EN
CALSCALE:GREGORIAN
METHOD:PUBLISH
X-WR-CALNAME:MedienChamaeleon
X-ORIGINAL-URL:https://medienchamaeleon.de
X-WR-CALDESC:Veranstaltungen für MedienChamaeleon
REFRESH-INTERVAL;VALUE=DURATION:PT1H
X-Robots-Tag:noindex
X-PUBLISHED-TTL:PT1H
BEGIN:VTIMEZONE
TZID:Europe/Paris
BEGIN:DAYLIGHT
TZOFFSETFROM:+0100
TZOFFSETTO:+0200
TZNAME:CEST
DTSTART:20230326T010000
END:DAYLIGHT
BEGIN:STANDARD
TZOFFSETFROM:+0200
TZOFFSETTO:+0100
TZNAME:CET
DTSTART:20231029T010000
END:STANDARD
BEGIN:DAYLIGHT
TZOFFSETFROM:+0100
TZOFFSETTO:+0200
TZNAME:CEST
DTSTART:20240331T010000
END:DAYLIGHT
BEGIN:STANDARD
TZOFFSETFROM:+0200
TZOFFSETTO:+0100
TZNAME:CET
DTSTART:20241027T010000
END:STANDARD
BEGIN:DAYLIGHT
TZOFFSETFROM:+0100
TZOFFSETTO:+0200
TZNAME:CEST
DTSTART:20250330T010000
END:DAYLIGHT
BEGIN:STANDARD
TZOFFSETFROM:+0200
TZOFFSETTO:+0100
TZNAME:CET
DTSTART:20251026T010000
END:STANDARD
END:VTIMEZONE
BEGIN:VEVENT
DTSTART;TZID=Europe/Paris:20240924T140000
DTEND;TZID=Europe/Paris:20240924T170000
DTSTAMP:20260424T100352
CREATED:20240620T100904Z
LAST-MODIFIED:20240620T101014Z
UID:8443-1727186400-1727197200@medienchamaeleon.de
SUMMARY:ChatGPT und Co. Künstliche Intelligenz anwenden und verstehen
DESCRIPTION:Assistenzsysteme\, Deepfakes\, ChatGPT und Co – Herausforderungen und Chancen von künstlicher Intelligenz im Alltag: KI – Künstliche Intelligenz – ist für viele ein Mysterium. In unserem Workshop erhalten Sie wertvolle Einblicke in die Funktionsweise und Anwendungsmöglichkeiten moderner KI-Systeme wie ChatGPT. Entdecken Sie\, wie künstliche Intelligenz Ihr Leben bereichern kann und wie Sie sie sicher und effektiv zu Ihrem Vorteil nutzen können. \n\n\n\n\nWie funktioniert eigentlich ChatGPT?\n\n\n\nWas ist ein Promt und wie promte ich richtig?\n\n\n\nWie leicht ist es\, Inhalte selbst zu generieren?\n\n\n\nWie erkenne ich generierte Inhalte?\n\n\n\n\nDurch das Ausprobieren künstlicher Intelligenzsysteme erfahren Sie\, wie KI-generierte Inhalte zu erkennen sind und worauf Sie in Zukunft gezielt achten können\, um Realität von generierten Inhalten zu unterscheiden. \n\n\n\nBitte melden Sie sich in der Bibliothek Burgstädt per Mail oder Telefon (03724 63220) zur Veranstaltung an.
URL:https://medienchamaeleon.de/event/kuenstliche-intelligenz-einblicke-in-die-zukunftstechnologie-8
LOCATION:Stadtbibliothek Burgstädt – Haus der Familienbibliothek\, Dr. Robert-Koch-Str. 40\, Burgstädt\, 09217
CATEGORIES:Workshop
ATTACH;FMTTYPE=image/png:https://medienchamaeleon.de/wp-content/uploads/2023/06/Chat-bot-bro.png
END:VEVENT
END:VCALENDAR