BEGIN:VCALENDAR
VERSION:2.0
PRODID:-//MedienChamaeleon - ECPv6.15.20//NONSGML v1.0//EN
CALSCALE:GREGORIAN
METHOD:PUBLISH
X-WR-CALNAME:MedienChamaeleon
X-ORIGINAL-URL:https://medienchamaeleon.de
X-WR-CALDESC:Veranstaltungen für MedienChamaeleon
REFRESH-INTERVAL;VALUE=DURATION:PT1H
X-Robots-Tag:noindex
X-PUBLISHED-TTL:PT1H
BEGIN:VTIMEZONE
TZID:Europe/Paris
BEGIN:DAYLIGHT
TZOFFSETFROM:+0100
TZOFFSETTO:+0200
TZNAME:CEST
DTSTART:20210328T010000
END:DAYLIGHT
BEGIN:STANDARD
TZOFFSETFROM:+0200
TZOFFSETTO:+0100
TZNAME:CET
DTSTART:20211031T010000
END:STANDARD
BEGIN:DAYLIGHT
TZOFFSETFROM:+0100
TZOFFSETTO:+0200
TZNAME:CEST
DTSTART:20220327T010000
END:DAYLIGHT
BEGIN:STANDARD
TZOFFSETFROM:+0200
TZOFFSETTO:+0100
TZNAME:CET
DTSTART:20221030T010000
END:STANDARD
BEGIN:DAYLIGHT
TZOFFSETFROM:+0100
TZOFFSETTO:+0200
TZNAME:CEST
DTSTART:20230326T010000
END:DAYLIGHT
BEGIN:STANDARD
TZOFFSETFROM:+0200
TZOFFSETTO:+0100
TZNAME:CET
DTSTART:20231029T010000
END:STANDARD
END:VTIMEZONE
BEGIN:VEVENT
DTSTART;TZID=Europe/Paris:20221013T190000
DTEND;TZID=Europe/Paris:20221013T210000
DTSTAMP:20260423T103722
CREATED:20220630T113929Z
LAST-MODIFIED:20220630T113930Z
UID:6527-1665687600-1665694800@medienchamaeleon.de
SUMMARY:Hilfe mein Kind ist handysüchtig! – Elternabend zur Medienerziehung
DESCRIPTION:Medien haben längst unseren Familienalltag durchdrungen. Unsere Kinder wachsen mit digitalen Medien auf und es ist wichtig auf kindgerechte Inhalte und eine sichere Nutzung zu achten. Eltern werden dazu befähigt\, die eigene Mediennutzung zu hinterfragen und ihre Medienkompetenz zu stärken\, um den eigenen Kindern einen kritisch-reflektierenden Medienumgang zu vermitteln. Wir werden darüber sprechen\, wie man den Medienumgang der Kinder aktiv begleiten und gestalten kann\, betrachten Risiken und Potenziale der Mediennutzung und wollen Eltern darin bestärken\, mit ihren Kindern über ihr Nutzungsverhalten ins Gespräch zu kommen und in Kontakt zu bleiben.  \n\n\n\nThema des Elternabends: Mediennutzung für Grundschulkinder \n\n\n\nWir bitten um eine Voranmeldung unter 03731 23477 oder per E-Mail an Stadtbibliothek@freiberg.de
URL:https://medienchamaeleon.de/event/hilfe-mein-kind-ist-handysuechtig-elternabend-zur-medienerziehung-3
LOCATION:Stadtbibliothek Freiberg\, Korngasse 14\, Freiberg\, 09599
CATEGORIES:Informationsveranstaltung
ATTACH;FMTTYPE=image/jpeg:https://medienchamaeleon.de/wp-content/uploads/2022/05/06_Hilfe-mein-Kind-ist-handysuechtig-–-Elternabend-zur-Medienerziehung-scaled.jpg
END:VEVENT
END:VCALENDAR