BEGIN:VCALENDAR
VERSION:2.0
PRODID:-//MedienChamaeleon - ECPv6.15.20//NONSGML v1.0//EN
CALSCALE:GREGORIAN
METHOD:PUBLISH
X-WR-CALNAME:MedienChamaeleon
X-ORIGINAL-URL:https://medienchamaeleon.de
X-WR-CALDESC:Veranstaltungen für MedienChamaeleon
REFRESH-INTERVAL;VALUE=DURATION:PT1H
X-Robots-Tag:noindex
X-PUBLISHED-TTL:PT1H
BEGIN:VTIMEZONE
TZID:Europe/Paris
BEGIN:DAYLIGHT
TZOFFSETFROM:+0100
TZOFFSETTO:+0200
TZNAME:CEST
DTSTART:20220327T010000
END:DAYLIGHT
BEGIN:STANDARD
TZOFFSETFROM:+0200
TZOFFSETTO:+0100
TZNAME:CET
DTSTART:20221030T010000
END:STANDARD
BEGIN:DAYLIGHT
TZOFFSETFROM:+0100
TZOFFSETTO:+0200
TZNAME:CEST
DTSTART:20230326T010000
END:DAYLIGHT
BEGIN:STANDARD
TZOFFSETFROM:+0200
TZOFFSETTO:+0100
TZNAME:CET
DTSTART:20231029T010000
END:STANDARD
BEGIN:DAYLIGHT
TZOFFSETFROM:+0100
TZOFFSETTO:+0200
TZNAME:CEST
DTSTART:20240331T010000
END:DAYLIGHT
BEGIN:STANDARD
TZOFFSETFROM:+0200
TZOFFSETTO:+0100
TZNAME:CET
DTSTART:20241027T010000
END:STANDARD
END:VTIMEZONE
BEGIN:VEVENT
DTSTART;TZID=Europe/Paris:20230313T150000
DTEND;TZID=Europe/Paris:20230313T170000
DTSTAMP:20260421T103021
CREATED:20230103T164712Z
LAST-MODIFIED:20230104T164329Z
UID:7072-1678719600-1678726800@medienchamaeleon.de
SUMMARY:Google\, WhatsApp & Co. – sicher im Umgang mit Ihren Daten!
DESCRIPTION:Wie behalten Sie die Kontrolle? Die bekanntesten Dienste sind oft Datenkraken\, denn Daten sind Währung. Es lohnt sich daher das eigene Online-Nutzungsverhalten und genutzte Apps kritisch zu hinterfragen. \n\n\n\nWelche alternativen Suchmaschinen\, Emailprogramme und Browser gibt es?Welche Einstellungen helfen dabei\, die Nutzung sicherer zu gestalten?  \n\n\n\nWir gehen darauf ein\, wie persönliche Daten bei Online-Aktivitäten generiert und wofür diese genutzt werden. Wir besprechen\, welche Rechte Sie gegenüber Anbietern von Onlinediensten beim Datenschutz haben. Außerdem erfahren Sie\, welche Einstellungen in Browsern und Apps die Privatsphäre schützen und die Sicherheit verbessern. \n\n\n\nWir bitten um eine Voranmeldung unter 03722 409668 oder per E-Mail an info@bibliothek-hartmannsdorf.de
URL:https://medienchamaeleon.de/event/google-whatsapp-co-sicher-im-umgang-mit-ihren-daten
LOCATION:Bibliothek Hartmannsdorf\, Carl-Kirchhof-Straße 27\, Hartmannsdorf\, 09232\, Deutschland
CATEGORIES:Informationsveranstaltung
ATTACH;FMTTYPE=image/jpeg:https://medienchamaeleon.de/wp-content/uploads/2022/12/07_Google-What‘s-App-Co.jpg
END:VEVENT
END:VCALENDAR