BEGIN:VCALENDAR
VERSION:2.0
PRODID:-//MedienChamaeleon - ECPv6.15.20//NONSGML v1.0//EN
CALSCALE:GREGORIAN
METHOD:PUBLISH
X-WR-CALNAME:MedienChamaeleon
X-ORIGINAL-URL:https://medienchamaeleon.de
X-WR-CALDESC:Veranstaltungen für MedienChamaeleon
REFRESH-INTERVAL;VALUE=DURATION:PT1H
X-Robots-Tag:noindex
X-PUBLISHED-TTL:PT1H
BEGIN:VTIMEZONE
TZID:Europe/Paris
BEGIN:DAYLIGHT
TZOFFSETFROM:+0100
TZOFFSETTO:+0200
TZNAME:CEST
DTSTART:20230326T010000
END:DAYLIGHT
BEGIN:STANDARD
TZOFFSETFROM:+0200
TZOFFSETTO:+0100
TZNAME:CET
DTSTART:20231029T010000
END:STANDARD
BEGIN:DAYLIGHT
TZOFFSETFROM:+0100
TZOFFSETTO:+0200
TZNAME:CEST
DTSTART:20240331T010000
END:DAYLIGHT
BEGIN:STANDARD
TZOFFSETFROM:+0200
TZOFFSETTO:+0100
TZNAME:CET
DTSTART:20241027T010000
END:STANDARD
BEGIN:DAYLIGHT
TZOFFSETFROM:+0100
TZOFFSETTO:+0200
TZNAME:CEST
DTSTART:20250330T010000
END:DAYLIGHT
BEGIN:STANDARD
TZOFFSETFROM:+0200
TZOFFSETTO:+0100
TZNAME:CET
DTSTART:20251026T010000
END:STANDARD
END:VTIMEZONE
BEGIN:VEVENT
DTSTART;TZID=Europe/Paris:20240924T180000
DTEND;TZID=Europe/Paris:20240924T200000
DTSTAMP:20260422T110603
CREATED:20240620T093713Z
LAST-MODIFIED:20240620T093744Z
UID:8436-1727200800-1727208000@medienchamaeleon.de
SUMMARY:Fake oder Fakt?! Welchen Informationen kann ich noch trauen?
DESCRIPTION:Im Internet kursieren Unmengen an Informationen und Meinungen. Dabei verschwimmen die Grenzen zwischen subjektiver und objektiver Betrachtung. Fake News\, Desinformationen und Hate-Speech beeinflussen die Meinungsbildung und verzerren die Realität. Daher ist es wichtig\, das eigene Informationsverhalten zu reflektieren und zwischen seriösen Quellen und Desinformationen zu unterscheiden. \n\n\n\n\nWas sind Fake-News?\n\n\n\nWas sind Kriterien für seriöse Nachrichten(quellen)?\n\n\n\nUnd wie unterscheide ich seriöse Nachrichten von Fake News?\n\n\n\n\nWir besprechen\, wie Informationen und Nachrichten aus dem Internet richtig einzuschätzen sind und woran Sie seriöse Nachrichten erkennen. Dabei zeigen wir Ihnen Strategien\, um Fake News zu identifizieren und bieten Beispiele für zuverlässige Nachrichtenquellen. \n\n\n\nWir bitten um eine Voranmeldung in der Stadtbibliothek Hainichen unter 037207 53076 oder per E-Mail.
URL:https://medienchamaeleon.de/event/fake-oder-fakt-welchen-informationen-kann-ich-noch-trauen-2
LOCATION:Stadtbibliothek Hainichen\, Markt 9\, Hainichen\, Sachsen\, 09661\, Deutschland
CATEGORIES:Informationsveranstaltung
ATTACH;FMTTYPE=image/png:https://medienchamaeleon.de/wp-content/uploads/2023/06/Fakt-Fake.png
END:VEVENT
END:VCALENDAR