BEGIN:VCALENDAR
VERSION:2.0
PRODID:-//MedienChamaeleon - ECPv6.15.20//NONSGML v1.0//EN
CALSCALE:GREGORIAN
METHOD:PUBLISH
X-WR-CALNAME:MedienChamaeleon
X-ORIGINAL-URL:https://medienchamaeleon.de
X-WR-CALDESC:Veranstaltungen für MedienChamaeleon
REFRESH-INTERVAL;VALUE=DURATION:PT1H
X-Robots-Tag:noindex
X-PUBLISHED-TTL:PT1H
BEGIN:VTIMEZONE
TZID:Europe/Paris
BEGIN:DAYLIGHT
TZOFFSETFROM:+0100
TZOFFSETTO:+0200
TZNAME:CEST
DTSTART:20220327T010000
END:DAYLIGHT
BEGIN:STANDARD
TZOFFSETFROM:+0200
TZOFFSETTO:+0100
TZNAME:CET
DTSTART:20221030T010000
END:STANDARD
BEGIN:DAYLIGHT
TZOFFSETFROM:+0100
TZOFFSETTO:+0200
TZNAME:CEST
DTSTART:20230326T010000
END:DAYLIGHT
BEGIN:STANDARD
TZOFFSETFROM:+0200
TZOFFSETTO:+0100
TZNAME:CET
DTSTART:20231029T010000
END:STANDARD
BEGIN:DAYLIGHT
TZOFFSETFROM:+0100
TZOFFSETTO:+0200
TZNAME:CEST
DTSTART:20240331T010000
END:DAYLIGHT
BEGIN:STANDARD
TZOFFSETFROM:+0200
TZOFFSETTO:+0100
TZNAME:CET
DTSTART:20241027T010000
END:STANDARD
END:VTIMEZONE
BEGIN:VEVENT
DTSTART;TZID=Europe/Paris:20230907T180000
DTEND;TZID=Europe/Paris:20230907T200000
DTSTAMP:20260423T103922
CREATED:20230619T102013Z
LAST-MODIFIED:20230620T090507Z
UID:7814-1694109600-1694116800@medienchamaeleon.de
SUMMARY:Erstes Smartphone\, Computerspiele & Co. – Tipps für den Umgang mit Medien im Grundschulalter
DESCRIPTION:Smartphone und Co haben längst unseren Familienalltag durchdrungen. Unsere Kinder wachsen mit den digitalen Medien auf. Umso wichtiger ist es\, auf kindgerechte Inhalte und eine sichere Nutzung zu achten. Mit dem Schulstart denken Eltern häufig über ein Smartphone für das eigene Kind nach – es bieten sich Möglichkeiten zur Kommunikation und Sicherheit. \n\n\n\n\nWelche digitalen Medien sind für unsere Kinder geeignet?\n\n\n\nWann ist ein Kind bereit für ein eigenes Smartphone?\n\n\n\nWelche Formate oder Inhalte kann mein Kind konsumieren und wie kann ich die Nutzung einschränken?\n\n\n\n\n \n\n\n\nNach einem kurzen Einblick in die Bedeutung von Freundschaften\, Zugehörigkeit und dem sogenannten „mitreden können“\, werden wir darüber sprechen\, wie Sie den Medienumgang der Kinder aktiv begleiten und gestalten können. In der Veranstaltung sollen sowohl die Risiken als auch die Potenziale\, die ein eigenes Endgerät\, sowie die Nutzung sozialer Netzwerke\, Messenger-Dienste und Medienplattformen mit sich bringen\, beleuchtet werden. Individuelle Fragen sind sehr willkommen.
URL:https://medienchamaeleon.de/event/erstes-smartphone-computerspiele-co-tipps-fuer-den-umgang-mit-medien-im-grundschulalter
LOCATION:MGH Buntes Haus\, Tschaikowskistraße 57a\, Freiberg\, 09599
CATEGORIES:Informationsveranstaltung
ATTACH;FMTTYPE=image/png:https://medienchamaeleon.de/wp-content/uploads/2023/06/Mobile-bro-orange.png
END:VEVENT
END:VCALENDAR