BEGIN:VCALENDAR
VERSION:2.0
PRODID:-//MedienChamaeleon - ECPv6.15.20//NONSGML v1.0//EN
CALSCALE:GREGORIAN
METHOD:PUBLISH
X-WR-CALNAME:MedienChamaeleon
X-ORIGINAL-URL:https://medienchamaeleon.de
X-WR-CALDESC:Veranstaltungen für MedienChamaeleon
REFRESH-INTERVAL;VALUE=DURATION:PT1H
X-Robots-Tag:noindex
X-PUBLISHED-TTL:PT1H
BEGIN:VTIMEZONE
TZID:Europe/Paris
BEGIN:DAYLIGHT
TZOFFSETFROM:+0100
TZOFFSETTO:+0200
TZNAME:CEST
DTSTART:20210328T010000
END:DAYLIGHT
BEGIN:STANDARD
TZOFFSETFROM:+0200
TZOFFSETTO:+0100
TZNAME:CET
DTSTART:20211031T010000
END:STANDARD
BEGIN:DAYLIGHT
TZOFFSETFROM:+0100
TZOFFSETTO:+0200
TZNAME:CEST
DTSTART:20220327T010000
END:DAYLIGHT
BEGIN:STANDARD
TZOFFSETFROM:+0200
TZOFFSETTO:+0100
TZNAME:CET
DTSTART:20221030T010000
END:STANDARD
BEGIN:DAYLIGHT
TZOFFSETFROM:+0100
TZOFFSETTO:+0200
TZNAME:CEST
DTSTART:20230326T010000
END:DAYLIGHT
BEGIN:STANDARD
TZOFFSETFROM:+0200
TZOFFSETTO:+0100
TZNAME:CET
DTSTART:20231029T010000
END:STANDARD
END:VTIMEZONE
BEGIN:VEVENT
DTSTART;TZID=Europe/Paris:20220105T190000
DTEND;TZID=Europe/Paris:20220105T210000
DTSTAMP:20260425T130116
CREATED:20211207T102449Z
LAST-MODIFIED:20211207T102451Z
UID:4566-1641409200-1641416400@medienchamaeleon.de
SUMMARY:Elternabende zur Medienerziehung - Kinder aktiv im Umgang mit Medien begleiten 2-6
DESCRIPTION:Medien haben längst unseren Familienalltag durchdrungen. Unsere Kinder wachsen mit digitalen Medien auf und es ist wichtig auf kindgerechte Inhalte und eine sichere Nutzung zu achten. \n\n\n\nWelche Medien sind schon für unsere Kleinsten geeignet? \n\n\n\nWie können Medien sinnvoll genutzt werden? \n\n\n\nWelche Apps bieten einen Mehrwert? \n\n\n\nNach einem kurzen Einblick in die kindliche Entwicklung werden wir darüber sprechen\, wie man den Medienumgang der Kinder aktiv begleiten und gestalten kann. Außerdem lernen wir relevante Apps und Webseiten kennen und sprechen über die Nutzung verschiedener Endgeräte. Individuelle Fragen sind sehr willkommen. Wir freuen uns auf einen gemeinsamen Austausch! \n\n\n\n—Eine Teilnahme ist per Anmeldung über unser Kontaktformular oder direkt auf der Seite Online-Veranstaltungen möglich.
URL:https://medienchamaeleon.de/event/elternabende-zur-medienerziehung-kinder-aktiv-im-umgang-mit-medien-begleiten-2-6
LOCATION:Onlineveranstaltung
CATEGORIES:Informationsveranstaltung,Online
ATTACH;FMTTYPE=image/jpeg:https://medienchamaeleon.de/wp-content/uploads/Angebotsbilder/mediennutzung-Kleinkinder-scaled.jpg
END:VEVENT
END:VCALENDAR