BEGIN:VCALENDAR
VERSION:2.0
PRODID:-//MedienChamaeleon - ECPv6.15.20//NONSGML v1.0//EN
CALSCALE:GREGORIAN
METHOD:PUBLISH
X-WR-CALNAME:MedienChamaeleon
X-ORIGINAL-URL:https://medienchamaeleon.de
X-WR-CALDESC:Veranstaltungen für MedienChamaeleon
REFRESH-INTERVAL;VALUE=DURATION:PT1H
X-Robots-Tag:noindex
X-PUBLISHED-TTL:PT1H
BEGIN:VTIMEZONE
TZID:Europe/Paris
BEGIN:DAYLIGHT
TZOFFSETFROM:+0100
TZOFFSETTO:+0200
TZNAME:CEST
DTSTART:20220327T010000
END:DAYLIGHT
BEGIN:STANDARD
TZOFFSETFROM:+0200
TZOFFSETTO:+0100
TZNAME:CET
DTSTART:20221030T010000
END:STANDARD
BEGIN:DAYLIGHT
TZOFFSETFROM:+0100
TZOFFSETTO:+0200
TZNAME:CEST
DTSTART:20230326T010000
END:DAYLIGHT
BEGIN:STANDARD
TZOFFSETFROM:+0200
TZOFFSETTO:+0100
TZNAME:CET
DTSTART:20231029T010000
END:STANDARD
BEGIN:DAYLIGHT
TZOFFSETFROM:+0100
TZOFFSETTO:+0200
TZNAME:CEST
DTSTART:20240331T010000
END:DAYLIGHT
BEGIN:STANDARD
TZOFFSETFROM:+0200
TZOFFSETTO:+0100
TZNAME:CET
DTSTART:20241027T010000
END:STANDARD
END:VTIMEZONE
BEGIN:VEVENT
DTSTART;TZID=Europe/Paris:20230321T183000
DTEND;TZID=Europe/Paris:20230321T203000
DTSTAMP:20260419T154232
CREATED:20230106T151313Z
LAST-MODIFIED:20230106T151316Z
UID:7187-1679423400-1679430600@medienchamaeleon.de
SUMMARY:Digitale Medien in Kinderhand – aber sicher?!
DESCRIPTION:Medien haben längst unseren Familienalltag durchdrungen. Unsere Kinder wachsen mit digitalen Medien auf. Es ist wichtig auf kindgerechte Inhalte und eine sichere Nutzung zu achten\, aber auch Potenziale digitaler Medien zu nutzen. Wir haben Tipps und Handlungsvorschläge für Eltern zur Smartphone-Nutzung: \n\n\n\n\nWelche Schritte sind ab welchem Alter ratsam?Wie können Eltern Kinder begleiten? \n\n\n\nWir sprechen darüber\, wie man den Medienumgang der Kinder aktiv gestalten kann\, betrachten Risiken und Potenziale der Mediennutzung und wollen Eltern darin bestärken\, mit ihren Kindern über ihr Nutzungsverhalten ins Gespräch zu kommen und in Kontakt zu bleiben. \n\n\n\nEs erwartet Sie ein ein interessanter Vortrag und Austausch.  \n\n\n\nWir bitten um eine Voranmeldung unter 03731 76063.
URL:https://medienchamaeleon.de/event/digitale-medien-in-kinderhand-aber-sicher-4
LOCATION:Grundschule Clemens Winkler Freiberg\, Franz-Kögler-Ring 84\, Freiberg\, 09599
CATEGORIES:Informationsveranstaltung
ATTACH;FMTTYPE=image/jpeg:https://medienchamaeleon.de/wp-content/uploads/2022/12/10_Digitale-Medien-in-Kinderhand-–-aber-sicher.jpg
END:VEVENT
END:VCALENDAR