BEGIN:VCALENDAR
VERSION:2.0
PRODID:-//MedienChamaeleon - ECPv6.15.20//NONSGML v1.0//EN
CALSCALE:GREGORIAN
METHOD:PUBLISH
X-WR-CALNAME:MedienChamaeleon
X-ORIGINAL-URL:https://medienchamaeleon.de
X-WR-CALDESC:Veranstaltungen für MedienChamaeleon
REFRESH-INTERVAL;VALUE=DURATION:PT1H
X-Robots-Tag:noindex
X-PUBLISHED-TTL:PT1H
BEGIN:VTIMEZONE
TZID:Europe/Paris
BEGIN:DAYLIGHT
TZOFFSETFROM:+0100
TZOFFSETTO:+0200
TZNAME:CEST
DTSTART:20210328T010000
END:DAYLIGHT
BEGIN:STANDARD
TZOFFSETFROM:+0200
TZOFFSETTO:+0100
TZNAME:CET
DTSTART:20211031T010000
END:STANDARD
BEGIN:DAYLIGHT
TZOFFSETFROM:+0100
TZOFFSETTO:+0200
TZNAME:CEST
DTSTART:20220327T010000
END:DAYLIGHT
BEGIN:STANDARD
TZOFFSETFROM:+0200
TZOFFSETTO:+0100
TZNAME:CET
DTSTART:20221030T010000
END:STANDARD
BEGIN:DAYLIGHT
TZOFFSETFROM:+0100
TZOFFSETTO:+0200
TZNAME:CEST
DTSTART:20230326T010000
END:DAYLIGHT
BEGIN:STANDARD
TZOFFSETFROM:+0200
TZOFFSETTO:+0100
TZNAME:CET
DTSTART:20231029T010000
END:STANDARD
END:VTIMEZONE
BEGIN:VEVENT
DTSTART;TZID=Europe/Paris:20220524T180000
DTEND;TZID=Europe/Paris:20220524T200000
DTSTAMP:20260421T103035
CREATED:20211222T083920Z
LAST-MODIFIED:20211222T083922Z
UID:5115-1653415200-1653422400@medienchamaeleon.de
SUMMARY:Computerspiele – Altersgerechte Inhalte\, Familienregeln\, Suchtdefinition
DESCRIPTION:Neben Spielen für Computer und Konsole gibt es auch immer mehr Angebote für Smartphones und Tablets\, sodass unsere Kinder von überall darauf zugreifen können. \n\n\n\nWie kann ein kontrollierter und begleiteter Umgang von Videospielen auf mobilen Endgeräten gewährleistet werden?Wie kann ich mein Kind schützen und was bedeuten die USK-Empfehlungen?Wo kann ich mich über aktuelle Angebote informieren? \n\n\n\nWir sehen uns einige Beispiele an\, diskutieren gemeinsam über Nutzungsbeschränkungen und besprechen das wichtige Thema „Computerspielsucht“. In der Veranstaltung sollen sowohl die Gefahren aufgezeigt als auch Anreize geschaffen werden\, um zusammen mit dem Kind Erfahrungen zu sammeln. Wir freuen uns auf einen gemeinsamen Austausch! \n\n\n\n—Wir bitten um eine Voranmeldung unter 037381 654660 oder per E-Mail an buecherei@penig.de
URL:https://medienchamaeleon.de/event/computerspiele-altersgerechte-inhalte-familienregeln-suchtdefinition-4
LOCATION:Stadtbibliothek Penig\, Schloßstraße 5\, Penig\, Sachsen\, 09322\, Deutschland
CATEGORIES:Informationsveranstaltung
ATTACH;FMTTYPE=image/jpeg:https://medienchamaeleon.de/wp-content/uploads/2021/11/13_computerspiele-scaled.jpg
END:VEVENT
END:VCALENDAR