BEGIN:VCALENDAR
VERSION:2.0
PRODID:-//MedienChamaeleon - ECPv6.15.20//NONSGML v1.0//EN
CALSCALE:GREGORIAN
METHOD:PUBLISH
X-WR-CALNAME:MedienChamaeleon
X-ORIGINAL-URL:https://medienchamaeleon.de
X-WR-CALDESC:Veranstaltungen für MedienChamaeleon
REFRESH-INTERVAL;VALUE=DURATION:PT1H
X-Robots-Tag:noindex
X-PUBLISHED-TTL:PT1H
BEGIN:VTIMEZONE
TZID:Europe/Paris
BEGIN:DAYLIGHT
TZOFFSETFROM:+0100
TZOFFSETTO:+0200
TZNAME:CEST
DTSTART:20200329T010000
END:DAYLIGHT
BEGIN:STANDARD
TZOFFSETFROM:+0200
TZOFFSETTO:+0100
TZNAME:CET
DTSTART:20201025T010000
END:STANDARD
BEGIN:DAYLIGHT
TZOFFSETFROM:+0100
TZOFFSETTO:+0200
TZNAME:CEST
DTSTART:20210328T010000
END:DAYLIGHT
BEGIN:STANDARD
TZOFFSETFROM:+0200
TZOFFSETTO:+0100
TZNAME:CET
DTSTART:20211031T010000
END:STANDARD
BEGIN:DAYLIGHT
TZOFFSETFROM:+0100
TZOFFSETTO:+0200
TZNAME:CEST
DTSTART:20220327T010000
END:DAYLIGHT
BEGIN:STANDARD
TZOFFSETFROM:+0200
TZOFFSETTO:+0100
TZNAME:CET
DTSTART:20221030T010000
END:STANDARD
END:VTIMEZONE
BEGIN:VEVENT
DTSTART;TZID=Europe/Paris:20211005T173000
DTEND;TZID=Europe/Paris:20211005T193000
DTSTAMP:20260424T101636
CREATED:20210830T094715Z
LAST-MODIFIED:20211019T113042Z
UID:555-1633455000-1633462200@medienchamaeleon.de
SUMMARY:Bild dir deine Meinung - Wie uns das Internet beeinflusst
DESCRIPTION:Meinungsfreiheit ist in unserem Land ein Grundrecht. Doch durch die Anonymität des Internets werden nicht nur vielfältige Meinungen\, sondern auch Provokationen\, Desinformationen und Falschmeldungen\, sogenannte Fake News schnell verbreitet. Durch die Flut an Informationen sind Nutzer*innen schnell überfordert und werden verunsichert. Das Konsumieren immer gleicher Nachrichten und Influencer*innen kann allerdings dazu führen\, dass feste Meinungsbilder entstehen und zu sogenannten Filterblasen führen\, die dann auf das reale Leben abfärben. Welche Marketingmethoden und Verkaufsmaschen Influencer*innen anwenden\, hinter welchen Informationen sich Werbung versteckt und wie man Täuschungen und Fake News erkennt\, wollen wir in unserem Kurs besprechen. Wir bieten Hilfestellungen zum Schutz vor Manipulation sowie Tipps & Tricks zur Orientierung im Netz.  \n\n\n\nWir freuen uns auf einen gemeinsamen Austausch! \n\n\n\n—Wir bitten um eine Voranmeldung unter 03731 / 20 13 38 oder per E-Mail an muaiad.ibrahim@cjd.de
URL:https://medienchamaeleon.de/event/bild-dir-deine-meinung-wie-uns-das-internet-beeinflusst
LOCATION:Mehrgenerationenhaus „Buntes Haus“\, Tschaikowskistraße 57a\, Freiberg\, Sachsen\, 09599
CATEGORIES:Informationsveranstaltung
ATTACH;FMTTYPE=image/jpeg:https://medienchamaeleon.de/wp-content/uploads/2021/08/Bild-dir-deine-Meinung-scaled.jpeg
END:VEVENT
END:VCALENDAR