BEGIN:VCALENDAR
VERSION:2.0
PRODID:-//MedienChamaeleon - ECPv6.15.20//NONSGML v1.0//EN
CALSCALE:GREGORIAN
METHOD:PUBLISH
X-WR-CALNAME:MedienChamaeleon
X-ORIGINAL-URL:https://medienchamaeleon.de
X-WR-CALDESC:Veranstaltungen für MedienChamaeleon
REFRESH-INTERVAL;VALUE=DURATION:PT1H
X-Robots-Tag:noindex
X-PUBLISHED-TTL:PT1H
BEGIN:VTIMEZONE
TZID:Europe/Paris
BEGIN:DAYLIGHT
TZOFFSETFROM:+0100
TZOFFSETTO:+0200
TZNAME:CEST
DTSTART:20230326T010000
END:DAYLIGHT
BEGIN:STANDARD
TZOFFSETFROM:+0200
TZOFFSETTO:+0100
TZNAME:CET
DTSTART:20231029T010000
END:STANDARD
BEGIN:DAYLIGHT
TZOFFSETFROM:+0100
TZOFFSETTO:+0200
TZNAME:CEST
DTSTART:20240331T010000
END:DAYLIGHT
BEGIN:STANDARD
TZOFFSETFROM:+0200
TZOFFSETTO:+0100
TZNAME:CET
DTSTART:20241027T010000
END:STANDARD
BEGIN:DAYLIGHT
TZOFFSETFROM:+0100
TZOFFSETTO:+0200
TZNAME:CEST
DTSTART:20250330T010000
END:DAYLIGHT
BEGIN:STANDARD
TZOFFSETFROM:+0200
TZOFFSETTO:+0100
TZNAME:CET
DTSTART:20251026T010000
END:STANDARD
END:VTIMEZONE
BEGIN:VEVENT
DTSTART;TZID=Europe/Paris:20241102T100000
DTEND;TZID=Europe/Paris:20241102T160000
DTSTAMP:20260424T100303
CREATED:20240619T092621Z
LAST-MODIFIED:20240619T135415Z
UID:8367-1730541600-1730563200@medienchamaeleon.de
SUMMARY:Animation – Geschichten zum Leben erwecken
DESCRIPTION:Gemeinsam eine Illusion erschaffen und mit bewegten Bildern eine Geschichten zum Leben erwecken!  \n\n\n\nWelche Möglichkeiten gibt es\, meine Geschichte zum Leben zu erwecken?Was sind Animationen und wie entstehen sie?Wie aufwändig ist es\, eine Animation zu erstellen? \n\n\n\nWir lernen Apps kennen\, um Animationen zu erstellen und beschäftigen uns mit dazugehörigen Geräuschen und deren Entstehung. Egal ob ihr eure Motive zeichnen wollt\, Grafiken am Computer erstellt oder fotografische Aufnahmen nutzt – gemeinsam entdecken wir die animierte Welt!  \n\n\n\nDieser Workshop richtet sich an Kinder\, Eltern\, Großeltern und Senior:innen\, die gemeinsam eigene Animationen erstellen wollen.  \n\n\n\nWir bitten um eine Voranmeldung unter 03724/63220 oder per E-Mail an bibliothek@stadt-burgstaedt.de
URL:https://medienchamaeleon.de/event/animation-geschichten-zum-leben-erwecken-3
LOCATION:Stadtbibliothek Burgstädt – Haus der Familienbibliothek\, Dr. Robert-Koch-Str. 40\, Burgstädt\, 09217
CATEGORIES:Workshop
ATTACH;FMTTYPE=image/png:https://medienchamaeleon.de/wp-content/uploads/2023/10/Press-play-bro.png
END:VEVENT
END:VCALENDAR